BEGIN:VCALENDAR
VERSION:2.0
PRODID:-//Tubbercurry.ie Sligo - ECPv4.6.2//NONSGML v1.0//EN
CALSCALE:GREGORIAN
METHOD:PUBLISH
X-WR-CALNAME:Tubbercurry.ie Sligo
X-ORIGINAL-URL:http://tubbercurry.ie
X-WR-CALDESC:Events for Tubbercurry.ie Sligo
BEGIN:VEVENT
DTSTART;TZID=UTC+0:20170927T173000
DTEND;TZID=UTC+0:20170927T203000
DTSTAMP:20171024T023821
CREATED:20170921T143347Z
LAST-MODIFIED:20170921T143347Z
UID:2970-1506533400-1506544200@tubbercurry.ie
SUMMARY:Tubbercurry Women's Group
DESCRIPTION:
URL:http://tubbercurry.ie/event/tubbercurry-womens-group-14/
END:VEVENT
BEGIN:VEVENT
DTSTART;TZID=UTC+0:20170927T200000
DTEND;TZID=UTC+0:20170927T210000
DTSTAMP:20171024T023821
CREATED:20170921T143025Z
LAST-MODIFIED:20170921T143025Z
UID:2965-1506542400-1506546000@tubbercurry.ie
SUMMARY:Western Drama Festival AGM
DESCRIPTION:
URL:http://tubbercurry.ie/event/western-drama-festival-agm/
LOCATION:Ballina Road\, Tubbercurry 
END:VEVENT
BEGIN:VEVENT
DTSTART;TZID=UTC+0:20170927T200000
DTEND;TZID=UTC+0:20170927T210000
DTSTAMP:20171024T023821
CREATED:20170921T143241Z
LAST-MODIFIED:20170921T143241Z
UID:2967-1506542400-1506546000@tubbercurry.ie
SUMMARY:Tubbercurry Cancer Support Meeting
DESCRIPTION:
URL:http://tubbercurry.ie/event/tubbercurry-cancer-support-meeting/
LOCATION:Charlestown Road
END:VEVENT
BEGIN:VEVENT
DTSTART;TZID=UTC+0:20170928T140000
DTEND;TZID=UTC+0:20170928T170000
DTSTAMP:20171024T023821
CREATED:20170811T125543Z
LAST-MODIFIED:20170811T125543Z
UID:2874-1506607200-1506618000@tubbercurry.ie
SUMMARY:Bric A Brac Sale
DESCRIPTION:
URL:http://tubbercurry.ie/event/bric-a-brac-sale-7/
LOCATION:Tubbercurry
END:VEVENT
BEGIN:VEVENT
DTSTART;TZID=UTC+0:20170929T093000
DTEND;TZID=UTC+0:20170929T101500
DTSTAMP:20171024T023821
CREATED:20170907T133750Z
LAST-MODIFIED:20170907T133750Z
UID:2925-1506677400-1506680100@tubbercurry.ie
SUMMARY:Discovering Music for Under 3's
DESCRIPTION:The FRC in conjuntion with Music Generation\, Sligo will host a number of Fun classes for the Under 3&#8217;s. Â Classes will run for four weeks starting Fri September 29th. Â Places limited. Â Booking is essential. Â Contact Mary on: 071 9186926. \n
URL:http://tubbercurry.ie/event/discovering-music-for-under-3s/
LOCATION:Tubbercurry\, Sligo
END:VEVENT
BEGIN:VEVENT
DTSTART;TZID=UTC+0:20171004T173000
DTEND;TZID=UTC+0:20171004T203000
DTSTAMP:20171024T023821
CREATED:20170929T132243Z
LAST-MODIFIED:20170929T132243Z
UID:2991-1507138200-1507149000@tubbercurry.ie
SUMMARY:Tubbercurry Women's Group
DESCRIPTION:
URL:http://tubbercurry.ie/event/tubbercurry-womens-group-15/
END:VEVENT
BEGIN:VEVENT
DTSTART;TZID=UTC+0:20171005T140000
DTEND;TZID=UTC+0:20171005T170000
DTSTAMP:20171024T023821
CREATED:20170811T125731Z
LAST-MODIFIED:20170811T125731Z
UID:2876-1507212000-1507222800@tubbercurry.ie
SUMMARY:Bric A Brac Sale
DESCRIPTION:
URL:http://tubbercurry.ie/event/bric-a-brac-sale-8/
LOCATION:Tubbercurry
END:VEVENT
BEGIN:VEVENT
DTSTART;TZID=UTC+0:20171006T110000
DTEND;TZID=UTC+0:20171006T130000
DTSTAMP:20171024T023821
CREATED:20171004T134148Z
LAST-MODIFIED:20171004T134148Z
UID:3011-1507287600-1507294800@tubbercurry.ie
SUMMARY:Creative Writing Group
DESCRIPTION:Meets Every Friday at Tubbercurry Community Library. \nAdm: Free \nFurther details on: 071 9111705 \n
URL:http://tubbercurry.ie/event/creative-writing-group/
END:VEVENT
BEGIN:VEVENT
DTSTART;TZID=UTC+0:20171006T200000
DTEND;TZID=UTC+0:20171006T220000
DTSTAMP:20171024T023821
CREATED:20171003T134026Z
LAST-MODIFIED:20171003T134026Z
UID:3009-1507320000-1507327200@tubbercurry.ie
SUMMARY:House Concert
DESCRIPTION:Bluegrass & Mala Fyrmoon. \nMoy River Folk Club.Â  Bookings on: 087 2512030/mccarrickpat@gmail.com \nAll welcome \nCost: â‚¬15 \n
URL:http://tubbercurry.ie/event/house-concert-2/
END:VEVENT
BEGIN:VEVENT
DTSTART;TZID=UTC+0:20171010T113000
DTEND;TZID=UTC+0:20171010T123000
DTSTAMP:20171024T023821
CREATED:20171002T140819Z
LAST-MODIFIED:20171002T141306Z
UID:3002-1507635000-1507638600@tubbercurry.ie
SUMMARY:Wellness Walk 1
DESCRIPTION:To Celebrate World Mental Health Week (8th &#8211; 15th October).Â  Walk followed by a Light Lunch.Â  Cost: â‚¬5Â  Booking Essential on: 071 9186926. \nMeet at Yeat&#8217;s in Curry at 1130am on Tuesday 10th October. \n
URL:http://tubbercurry.ie/event/wellness-walk-1/
LOCATION:Curry
END:VEVENT
BEGIN:VEVENT
DTSTART;TZID=UTC+0:20171010T183000
DTEND;TZID=UTC+0:20171010T203000
DTSTAMP:20171024T023821
CREATED:20170929T133142Z
LAST-MODIFIED:20170929T133142Z
UID:2997-1507660200-1507667400@tubbercurry.ie
SUMMARY:Free Computer Classes for Beginners
DESCRIPTION:10th October until 14th November \nContact details: 071 9120814 or e-mail: mroddy@stattractas.ie \n
URL:http://tubbercurry.ie/event/free-computer-classes-for-beginners/
END:VEVENT
BEGIN:VEVENT
DTSTART;TZID=UTC+0:20171010T200000
DTEND;TZID=UTC+0:20171010T220000
DTSTAMP:20171024T023821
CREATED:20170907T145053Z
LAST-MODIFIED:20170907T145053Z
UID:2934-1507665600-1507672800@tubbercurry.ie
SUMMARY:Comhaltas Tour of Ireland
DESCRIPTION:Tickets: 071 9182599 \n
URL:http://tubbercurry.ie/event/comhaltas-tour-of-ireland-2/
LOCATION:Gurteen\, Sligo\, Ireland
END:VEVENT
BEGIN:VEVENT
DTSTART;TZID=UTC+0:20171011T103000
DTEND;TZID=UTC+0:20171011T113000
DTSTAMP:20171024T023821
CREATED:20171002T141220Z
LAST-MODIFIED:20171002T141220Z
UID:3005-1507717800-1507721400@tubbercurry.ie
SUMMARY:Wellness Walk 2
DESCRIPTION:To celebrate Mental Health Week (8th &#8211; 15th October).Â  Wellness Walk followed by a Light Lunch.Â  Cost: â‚¬5.Â  Booking Essential on: 071 9186926 \n
URL:http://tubbercurry.ie/event/wellness-walk-2/
LOCATION:Sligo
END:VEVENT
BEGIN:VEVENT
DTSTART;TZID=UTC+0:20171011T173000
DTEND;TZID=UTC+0:20171011T203000
DTSTAMP:20171024T023821
CREATED:20171005T132206Z
LAST-MODIFIED:20171005T132206Z
UID:3017-1507743000-1507753800@tubbercurry.ie
SUMMARY:Tubbercurry Women's Group
DESCRIPTION:
URL:http://tubbercurry.ie/event/tubbercurry-womens-group-16/
END:VEVENT
BEGIN:VEVENT
DTSTART;TZID=UTC+0:20171012T140000
DTEND;TZID=UTC+0:20171012T170000
DTSTAMP:20171024T023821
CREATED:20170811T125830Z
LAST-MODIFIED:20170811T125830Z
UID:2878-1507816800-1507827600@tubbercurry.ie
SUMMARY:Bric A Brac Sale
DESCRIPTION:
URL:http://tubbercurry.ie/event/bric-a-brac-sale-9/
LOCATION:Tubbercurry
END:VEVENT
BEGIN:VEVENT
DTSTART;TZID=UTC+0:20171016T100000
DTEND;TZID=UTC+0:20171016T170000
DTSTAMP:20171024T023821
CREATED:20170928T112344Z
LAST-MODIFIED:20170928T112719Z
UID:2978-1508148000-1508173200@tubbercurry.ie
SUMMARY:Sligo Job Club
DESCRIPTION: \n
URL:http://tubbercurry.ie/event/sligo-job-club/
LOCATION:Tubbercurry\, Sligo
END:VEVENT
BEGIN:VEVENT
DTSTART;TZID=UTC+0:20171019T140000
DTEND;TZID=UTC+0:20171019T170000
DTSTAMP:20171024T023821
CREATED:20170811T130322Z
LAST-MODIFIED:20170811T130322Z
UID:2882-1508421600-1508432400@tubbercurry.ie
SUMMARY:Bric A Brac Sale
DESCRIPTION:
URL:http://tubbercurry.ie/event/bric-a-brac-sale-11/
LOCATION:Tubbercurry
END:VEVENT
BEGIN:VEVENT
DTSTART;TZID=UTC+0:20171021T203000
DTEND;TZID=UTC+0:20171021T223000
DTSTAMP:20171024T023821
CREATED:20171005T132948Z
LAST-MODIFIED:20171005T132948Z
UID:3025-1508617800-1508625000@tubbercurry.ie
SUMMARY:Table Quiz
DESCRIPTION:In aid of St. George&#8217;s Church Funds. \nâ‚¬40 per Table of Four \n  \n
URL:http://tubbercurry.ie/event/table-quiz-6/
LOCATION:Cloonacool
END:VEVENT
BEGIN:VEVENT
DTSTART;TZID=UTC+0:20171022T200000
DTEND;TZID=UTC+0:20171022T220000
DTSTAMP:20171024T023821
CREATED:20171005T132058Z
LAST-MODIFIED:20171005T132058Z
UID:3015-1508702400-1508709600@tubbercurry.ie
SUMMARY:" An Ordinary Man"
DESCRIPTION:Cloonacool Community Centre. \nFirst Come First Served Basis \n
URL:http://tubbercurry.ie/event/an-ordinary-man/
LOCATION:Cloonacool\, Sligo\, Ireland
END:VEVENT
BEGIN:VEVENT
DTSTART;TZID=UTC+0:20171025T173000
DTEND;TZID=UTC+0:20171025T203000
DTSTAMP:20171024T023821
CREATED:20171023T093435Z
LAST-MODIFIED:20171023T093435Z
UID:3062-1508952600-1508963400@tubbercurry.ie
SUMMARY:Tubbercurry Women's Group
DESCRIPTION:
URL:http://tubbercurry.ie/event/tubbercurry-womens-group-17/
END:VEVENT
BEGIN:VEVENT
DTSTART;TZID=UTC+0:20171026T073000
DTEND;TZID=UTC+0:20171026T093000
DTSTAMP:20171024T023821
CREATED:20171018T140134Z
LAST-MODIFIED:20171018T140134Z
UID:3054-1509003000-1509010200@tubbercurry.ie
SUMMARY:Getting Your Business Brexit Ready Breakfast
DESCRIPTION:Bank of Ireland Business Banking. \nBreakfast 7.30am &#8211; 8am. \n8am Speakers \n9.30am Finish \nRSVP: bankofireland.com/BrexitEvents/Ciara.mulligan@boi.com \n
URL:http://tubbercurry.ie/event/getting-your-business-brexit-ready-breakfast/
LOCATION:Pearse Road\, Sligo
CATEGORIES:Business
END:VEVENT
BEGIN:VEVENT
DTSTART;TZID=UTC+0:20171026T140000
DTEND;TZID=UTC+0:20171026T170000
DTSTAMP:20171024T023821
CREATED:20170811T125928Z
LAST-MODIFIED:20170811T125928Z
UID:2880-1509026400-1509037200@tubbercurry.ie
SUMMARY:Bric A Brac Sale
DESCRIPTION:
URL:http://tubbercurry.ie/event/bric-a-brac-sale-10/
LOCATION:Tubbercurry
END:VEVENT
BEGIN:VEVENT
DTSTART;TZID=UTC+0:20171026T203000
DTEND;TZID=UTC+0:20171026T213000
DTSTAMP:20171024T023821
CREATED:20171017T150620Z
LAST-MODIFIED:20171017T150620Z
UID:3038-1509049800-1509053400@tubbercurry.ie
SUMMARY:Tubbercurry Old Fair Day Festival AGM
DESCRIPTION:
URL:http://tubbercurry.ie/event/tubbercurry-old-fair-day-festival-agm/
LOCATION:Ballina Road\, Tubbercurry 
END:VEVENT
BEGIN:VEVENT
DTSTART;TZID=UTC+0:20171027T200000
DTEND;TZID=UTC+0:20171027T220000
DTSTAMP:20171024T023821
CREATED:20170929T132713Z
LAST-MODIFIED:20170929T133823Z
UID:2993-1509134400-1509141600@tubbercurry.ie
SUMMARY:'TubbeRocks'
DESCRIPTION:Proceeds to Nace O&#8217;Dowd Park Development Fund. \nTickets â‚¬15 available from Event Organizers\, Micky Mac&#8217;s Bar\, ComputerBits\, Homeland\, Achonry\, O&#8217;Grady&#8217;s Coolaney & Andersons Bar\, Sligo \n
URL:http://tubbercurry.ie/event/tubbe-rocks/
LOCATION:Tubbercurry\, Sligo
END:VEVENT
BEGIN:VEVENT
DTSTART;TZID=UTC+0:20171027T210000
DTEND;TZID=UTC+0:20171027T230000
DTSTAMP:20171024T023821
CREATED:20171017T151451Z
LAST-MODIFIED:20171017T151451Z
UID:3045-1509138000-1509145200@tubbercurry.ie
SUMMARY:Real Tubber Quiz Night
DESCRIPTION:
URL:http://tubbercurry.ie/event/real-tubber-quiz-night/
LOCATION:Tubbercurry\, Sligo
END:VEVENT
BEGIN:VEVENT
DTSTART;TZID=UTC+0:20171028T203000
DTEND;TZID=UTC+0:20171028T223000
DTSTAMP:20171024T023821
CREATED:20171017T151653Z
LAST-MODIFIED:20171017T151653Z
UID:3047-1509222600-1509229800@tubbercurry.ie
SUMMARY:"Men of The West"
DESCRIPTION:Cost: â‚¬12 \nBookings: 071 9182599 \n
URL:http://tubbercurry.ie/event/men-of-the-west/
LOCATION:Gurteen\, Sligo\, Ireland
END:VEVENT
BEGIN:VEVENT
DTSTART;TZID=UTC+0:20171028T210000
DTEND;TZID=UTC+0:20171028T230000
DTSTAMP:20171024T023821
CREATED:20171017T151321Z
LAST-MODIFIED:20171017T151321Z
UID:3043-1509224400-1509231600@tubbercurry.ie
SUMMARY:Anne Davey Memorial Fundraising Social
DESCRIPTION:All proceeds to North West Hospice. \nSpot Prizes & Raffle on the Night \nAdm: â‚¬5 \n
URL:http://tubbercurry.ie/event/anne-davey-memorial-fundraising-social/
LOCATION:Tubbercurry\, Sligo\, Ireland
CATEGORIES:Fundraiser
END:VEVENT
BEGIN:VEVENT
DTSTART;TZID=UTC+0:20171029T153000
DTEND;TZID=UTC+0:20171029T173000
DTSTAMP:20171024T023821
CREATED:20170526T130200Z
LAST-MODIFIED:20170526T130200Z
UID:2612-1509291000-1509298200@tubbercurry.ie
SUMMARY:Traditional Music Session
DESCRIPTION:Cawley&#8217;s\, Tubbercurry 3.30pm &#8211; 5.30pm \n
URL:http://tubbercurry.ie/event/traditional-music-session-6/
LOCATION:Tubbercurry
CATEGORIES:Entertainment
END:VEVENT
BEGIN:VEVENT
DTSTART;TZID=UTC+0:20171031T100000
DTEND;TZID=UTC+0:20171031T140000
DTSTAMP:20171024T023821
CREATED:20171017T150457Z
LAST-MODIFIED:20171017T150457Z
UID:3036-1509444000-1509458400@tubbercurry.ie
SUMMARY:Jiving Juniors Halloween Camp
DESCRIPTION:31st October & 1st November 10am &#8211; 2pm \nâ‚¬25 per Child.Â  â‚¬40 for 2 Children.Â  Ages 5yrs + \nContact: 086 2108029 \ne-mail: sandraganley@live.ie \n
URL:http://tubbercurry.ie/event/jiving-juniors-halloween-camp/
LOCATION:Gurteen\, Sligo\, Ireland
END:VEVENT
BEGIN:VEVENT
DTSTART;TZID=UTC+0:20171031T110000
DTEND;TZID=UTC+0:20171031T123000
DTSTAMP:20171024T023821
CREATED:20171019T151122Z
LAST-MODIFIED:20171019T151122Z
UID:3058-1509447600-1509453000@tubbercurry.ie
SUMMARY:Spooky Storytime & Arts & Crafts
DESCRIPTION:7 Years & Over \nAdm: Free \nBooking Essential on 071 9111705 \n
URL:http://tubbercurry.ie/event/spooky-storytime-arts-crafts/
END:VEVENT
BEGIN:VEVENT
DTSTART;TZID=UTC+0:20171103T200000
DTEND;TZID=UTC+0:20171103T220000
DTSTAMP:20171024T023821
CREATED:20170925T141217Z
LAST-MODIFIED:20170925T141217Z
UID:2975-1509739200-1509746400@tubbercurry.ie
SUMMARY:'Nobody's Talking To Me' by Tommy Marren
DESCRIPTION:At the Coleman Music Centre \n
URL:http://tubbercurry.ie/event/nobodys-talking-to-me-by-tommy-marren/
LOCATION:Gurteen\, Sligo\, Ireland
END:VEVENT
BEGIN:VEVENT
DTSTART;TZID=UTC+0:20171103T210000
DTEND;TZID=UTC+0:20171103T230000
DTSTAMP:20171024T023821
CREATED:20170526T144721Z
LAST-MODIFIED:20170526T144721Z
UID:2629-1509742800-1509750000@tubbercurry.ie
SUMMARY:Traditional Music Session
DESCRIPTION:Nathy Brennan&#8217;s \n
URL:http://tubbercurry.ie/event/traditional-music-session-14/
LOCATION:Tubbercurry\, Sligo
CATEGORIES:Entertainment
END:VEVENT
BEGIN:VEVENT
DTSTART;TZID=UTC+0:20171104T200000
DTEND;TZID=UTC+0:20171104T220000
DTSTAMP:20171024T023821
CREATED:20171009T152220Z
LAST-MODIFIED:20171009T152220Z
UID:3029-1509825600-1509832800@tubbercurry.ie
SUMMARY:"Nobody's Talking to Me" by Tommy Marren
DESCRIPTION:
URL:http://tubbercurry.ie/event/nobodys-talking-to-me-by-tommy-marren-2/
LOCATION:Gurteen\, Sligo\, Ireland
END:VEVENT
END:VCALENDAR